BEGIN:VCALENDAR
VERSION:2.0
PRODID:-//Tukios.com/
BEGIN:VEVENT
UID:d7e808d5-7e52-47d4-8870-0bafc0b6aa23@www.pisarskifuneralhome.com
DTSTAMP:20260423T161024Z
DTSTART:20260427T160000Z
DTEND:20260427T170000Z
SUMMARY:Mass
DESCRIPTION:
URL:https://www.pisarskifuneralhome.com/obituary/joseph-j-wierzba
LOCATION: 3315 Saint Adalberts Road  Rosholt WI 54473
GEO:44.6249624;-89.3242717
END:VEVENT
END:VCALENDAR