BEGIN:VCALENDAR
VERSION:2.0
PRODID:-//Tukios.com/
BEGIN:VEVENT
UID:a2f9bea1-372c-4baf-a422-504910c23444@www.pisarskifuneralhome.com
DTSTAMP:20260423T160729Z
DTSTART:20260427T140000Z
DTEND:20260427T160000Z
SUMMARY:Visitation
DESCRIPTION:
URL:https://www.pisarskifuneralhome.com/obituary/joseph-j-wierzba
LOCATION: 3315 Saint Adalberts Road  Rosholt WI 54473
GEO:44.6249624;-89.3242717
END:VEVENT
END:VCALENDAR