BEGIN:VCALENDAR
VERSION:2.0
PRODID:-//Tukios.com/
BEGIN:VEVENT
UID:5cdacb8b-2bb9-455a-b464-e8d24ab901ad@www.pisarskifuneralhome.com
DTSTAMP:20260419T190927Z
DTSTART:20260422T143000Z
DTEND:20260422T160000Z
SUMMARY:Visitation
DESCRIPTION:
URL:https://www.pisarskifuneralhome.com/obituary/mary-hamerski
LOCATION:St. Bronislava Catholic Church 3200 Plover Road  Plover WI 54467
GEO:44.4547222;-89.5558333
END:VEVENT
END:VCALENDAR