BEGIN:VCALENDAR
VERSION:2.0
PRODID:-//Tukios.com/
BEGIN:VEVENT
UID:8dae41df-4a1e-41c1-8efc-0ca399389dfe@www.pisarskifuneralhome.com
DTSTAMP:20260419T190809Z
DTSTART:20260422T160000Z
DTEND:20260422T170000Z
SUMMARY:Mass
DESCRIPTION:
URL:https://www.pisarskifuneralhome.com/obituary/mary-hamerski
LOCATION:St. Bronislava Catholic Church 3200 Plover Road  Plover WI 54467
GEO:44.4547222;-89.5558333
END:VEVENT
END:VCALENDAR