BEGIN:VCALENDAR
VERSION:2.0
PRODID:-//Tukios.com/
BEGIN:VEVENT
UID:65c80901-54ed-469e-90b9-22f2e64c985a@www.pisarskifuneralhome.com
DTSTAMP:20260420T172246Z
DTSTART:20260423T143000Z
DTEND:20260423T160000Z
SUMMARY:Visitation
DESCRIPTION:
URL:https://www.pisarskifuneralhome.com/obituary/randall-randy-zoromski
LOCATION:Pisarski Community Funeral Home 2911 Plover Rd  Plover WI 54467
GEO:44.4530851;-89.547542
END:VEVENT
END:VCALENDAR