BEGIN:VCALENDAR
VERSION:2.0
PRODID:-//Tukios.com/
BEGIN:VEVENT
UID:705ab813-f1b2-471a-a5b9-b1bf911e77f9@www.pisarskifuneralhome.com
DTSTAMP:20260420T215643Z
DTSTART:20260423T210000Z
DTEND:20260424T000000Z
SUMMARY:Visitation
DESCRIPTION:
URL:https://www.pisarskifuneralhome.com/obituary/thomas-phillip
LOCATION:Pisarski Funeral Home 703 Second St.  Stevens Point WI 54481
GEO:44.5286205;-89.5853749
END:VEVENT
END:VCALENDAR