BEGIN:VCALENDAR
VERSION:2.0
PRODID:-//Tukios.com/
BEGIN:VEVENT
UID:1f03bd8e-e2b4-40c9-8d03-4892f65096f0@www.pisarskifuneralhome.com
DTSTAMP:20260420T214952Z
DTSTART:20260424T150000Z
DTEND:20260424T160000Z
SUMMARY:Visitation
DESCRIPTION:
URL:https://www.pisarskifuneralhome.com/obituary/thomas-phillip
LOCATION:St. Bartholomew Catholic Church 2493 County Road M  Stevens 
	Point WI 54481
GEO:44.5400061;-89.6815977
END:VEVENT
END:VCALENDAR