BEGIN:VCALENDAR
VERSION:2.0
PRODID:-//Tukios.com/
BEGIN:VEVENT
UID:85eab634-c85b-4540-ba76-d2c3aea1c8ac@www.pisarskifuneralhome.com
DTSTAMP:20260420T215735Z
DTSTART:20260424T160000Z
DTEND:20260424T170000Z
SUMMARY:Mass
DESCRIPTION:
URL:https://www.pisarskifuneralhome.com/obituary/thomas-phillip
LOCATION:St. Bartholomew Catholic Church 2493 County Road M  Stevens 
	Point WI 54481
GEO:44.5400061;-89.6815977
END:VEVENT
END:VCALENDAR