BEGIN:VCALENDAR
VERSION:2.0
PRODID:-//Tukios.com/
BEGIN:VEVENT
UID:3296825f-2ba0-4849-abfe-70961df1076a@www.pisarskifuneralhome.com
DTSTAMP:20260420T215047Z
DTSTART:20260423T233000Z
DTEND:20260424T000000Z
SUMMARY:Ritual
DESCRIPTION:There will be ritual to conclude the visitation by the 
	American Legion Post 6 at 6:30 PM at the Funeral Home.
URL:https://www.pisarskifuneralhome.com/obituary/thomas-phillip
LOCATION: 703 Second St.  Stevens Point WI 54481
GEO:44.5286205;-89.5853749
END:VEVENT
END:VCALENDAR